BEGIN:VCALENDAR
VERSION:2.0
CALSCALE:GREGORIAN
PRODID:-//MyApp//Calendar 1.0//EN
BEGIN:VEVENT
METHOD:PUBLISH
UID:8778@regionalniportaly.cz
DTSTAMP:20260423T235644Z
DTSTART;VALUE=DATE:20170218
DTEND;VALUE=DATE:20170219
SUMMARY:Městský ples
DESCRIPTION:Společenský ples pořádaný městem Rousínovem\nDatum konání: 18. 2. 2017 začátek od 19:00\nMísto konání: Kulturní dům Záložna\, Sušilovo náměstí 6\, 683 01 Rousínov\n
LOCATION:Rousínov
END:VEVENT
END:VCALENDAR