BEGIN:VCALENDAR
VERSION:2.0
CALSCALE:GREGORIAN
PRODID:-//MyApp//Calendar 1.0//EN
BEGIN:VEVENT
METHOD:PUBLISH
UID:8772@regionalniportaly.cz
DTSTAMP:20260423T222214Z
DTSTART;VALUE=DATE:20170203
DTEND;VALUE=DATE:20170204
SUMMARY:Ples gymnázia
DESCRIPTION:Ples Gymnázia a SOŠZE Vyškov se koná v pátek  3. února 2017 v Kulturním domě v Drnovicích. Ples bude zahájen v 19:30 hod. slavnostní polonézou. K tanci hraje MARBO.\n\nVstupenky pouze v předprodeji od 23. ledna 2017 v kanceláři školy v době od 7:30 do 14:30 hodin.
LOCATION:Vyškov
END:VEVENT
END:VCALENDAR