BEGIN:VCALENDAR
VERSION:2.0
CALSCALE:GREGORIAN
PRODID:-//MyApp//Calendar 1.0//EN
BEGIN:VEVENT
METHOD:PUBLISH
UID:8493@regionalniportaly.cz
DTSTAMP:20260423T185256Z
DTSTART;VALUE=DATE:20161222
DTEND;VALUE=DATE:20161223
SUMMARY:Pojďme si zazpívat vánoční koledy…
DESCRIPTION:s několika členy Pěveckého sboru Antonína Tučapského a za klavírního\ndoprovodu Ing. Jana Holzera.\n
LOCATION:Vyškov
END:VEVENT
END:VCALENDAR