BEGIN:VCALENDAR
VERSION:2.0
CALSCALE:GREGORIAN
PRODID:-//MyApp//Calendar 1.0//EN
BEGIN:VEVENT
METHOD:PUBLISH
UID:8491@regionalniportaly.cz
DTSTAMP:20260423T173340Z
DTSTART;VALUE=DATE:20161220
DTEND;VALUE=DATE:20161221
SUMMARY:Hrátky s pamětí pro všechny bez rozdílu věku
DESCRIPTION:Další lekce trénování paměti. Vstup na permanentku\, nebo jednorázové vstupné 50 Kč.
LOCATION:Vyškov
END:VEVENT
END:VCALENDAR