BEGIN:VCALENDAR
VERSION:2.0
CALSCALE:GREGORIAN
PRODID:-//MyApp//Calendar 1.0//EN
BEGIN:VEVENT
METHOD:PUBLISH
UID:8475@regionalniportaly.cz
DTSTAMP:20260425T030022Z
DTSTART;VALUE=DATE:20161210
DTEND;VALUE=DATE:20161211
SUMMARY:Vánoční dílny v Majáku pro děti i dospělé
DESCRIPTION:Zlobišáci\, plyšáci\, voňavé polštářky\, originální butony-odznáčky\, svíčky ze včelího vosku\, šperky z fima\, foto rámečky\, sladká koleda\, andílci\, vánoční perníčky\n\nKdy:\n10.12.2016 13:00 - 17:00\nKde:\nBudova SVC Maják\, Brněnská 7\, Vyškov\nPořadatel akce:\nMaják - středisko volného času Vyškov
LOCATION:Vyškov
END:VEVENT
END:VCALENDAR