BEGIN:VCALENDAR
VERSION:2.0
CALSCALE:GREGORIAN
PRODID:-//MyApp//Calendar 1.0//EN
BEGIN:VEVENT
METHOD:PUBLISH
UID:8394@regionalniportaly.cz
DTSTAMP:20260423T171023Z
DTSTART;VALUE=DATE:20161205
DTEND;VALUE=DATE:20161206
SUMMARY:Čertoviny
DESCRIPTION:Čertovské soutěže\, ohňostroj a Mikulášskou nadílku.\n\nKdy:\n5.12.2016 16:00\nKde:\nMasarykovo náměstí Vyškov
LOCATION:Vyškov
END:VEVENT
END:VCALENDAR