BEGIN:VCALENDAR
VERSION:2.0
CALSCALE:GREGORIAN
PRODID:-//MyApp//Calendar 1.0//EN
BEGIN:VEVENT
METHOD:PUBLISH
UID:8392@regionalniportaly.cz
DTSTAMP:20260423T171645Z
DTSTART;VALUE=DATE:20161203
DTEND;VALUE=DATE:20161204
SUMMARY:Kulíškárny
DESCRIPTION:V 16.00 hodin otevřená cesta do pekla\, vstup na akci nejpozději v 17.00 hodin.\n\nOd 16.00 do 19.00 Létající bazar - prodej knih\, hraček\, cukroví\, jiných dobrot\, vystoupení skupiny Maggots\, řemeslné dílničky v areálu Hanáckého statku.\n 
LOCATION:Vyškov
END:VEVENT
END:VCALENDAR