BEGIN:VCALENDAR
VERSION:2.0
CALSCALE:GREGORIAN
PRODID:-//MyApp//Calendar 1.0//EN
BEGIN:VEVENT
METHOD:PUBLISH
UID:65877@regionalniportaly.cz
DTSTAMP:20260424T164202Z
DTSTART;VALUE=DATE:20260629
DTEND;VALUE=DATE:20260821
SUMMARY:Příměstské tábory léto 2026
DESCRIPTION:
LOCATION:Rousínov
END:VEVENT
END:VCALENDAR