BEGIN:VCALENDAR
VERSION:2.0
CALSCALE:GREGORIAN
PRODID:-//MyApp//Calendar 1.0//EN
BEGIN:VEVENT
METHOD:PUBLISH
UID:63717@regionalniportaly.cz
DTSTAMP:20260422T195855Z
DTSTART;VALUE=DATE:20260228
DTEND;VALUE=DATE:20260301
SUMMARY:Amor Vyškov : Jungheinrich Baník Chomutov
DESCRIPTION:Poslední zápas základní části 1 Futsal ligy přinese zápas domácího Amoru proti Chomutovu\, který má v sestavě několik Kolumbijců. S jejich pomocí bojuje Chomutov o 4 místo. Domácí mají teoretickou šanci\, v případě vítězství\, poskočit na šestou příčku.
LOCATION:Vyškov
END:VEVENT
END:VCALENDAR