BEGIN:VCALENDAR
VERSION:2.0
CALSCALE:GREGORIAN
PRODID:-//MyApp//Calendar 1.0//EN
BEGIN:VEVENT
METHOD:PUBLISH
UID:63124@regionalniportaly.cz
DTSTAMP:20260422T184119Z
DTSTART;VALUE=DATE:20260214
DTEND;VALUE=DATE:20260215
SUMMARY:Amor Vyškov : International FC Kadaň
DESCRIPTION:Po více \, jak měsíční reprezentační pauze pokračuje nejvyšší futsalová soutěž. Domácí Amor hostí 9 celek tabulky a v případě bodového zisku si zajistí účat v půay off.
LOCATION:Vyškov
END:VEVENT
END:VCALENDAR