BEGIN:VCALENDAR
VERSION:2.0
CALSCALE:GREGORIAN
PRODID:-//MyApp//Calendar 1.0//EN
BEGIN:VEVENT
METHOD:PUBLISH
UID:61743@regionalniportaly.cz
DTSTAMP:20260422T184224Z
DTSTART;VALUE=DATE:20260110
DTEND;VALUE=DATE:20260111
SUMMARY:Amor Vyškov : Slavia Praha
DESCRIPTION:Ve 14 kole nejvyšší futsalové soutěže dorazí do Vyškova tradiční klub Slavia Praha. Ta sice neprožívá nejlepší sezónu\, ale v posledních zápasech zvítězila a hodlá na to navázat i ve Vyškově.
LOCATION:Vyškov
END:VEVENT
END:VCALENDAR