BEGIN:VCALENDAR
VERSION:2.0
CALSCALE:GREGORIAN
PRODID:-//MyApp//Calendar 1.0//EN
BEGIN:VEVENT
METHOD:PUBLISH
UID:61478@regionalniportaly.cz
DTSTAMP:20260422T195509Z
DTSTART;VALUE=DATE:20260124
DTEND;VALUE=DATE:20260125
SUMMARY:Myslivecký ples
DESCRIPTION:Myslivecký spolek Komořany Vás srdečně zve na tradiční Myslivecký ples.Začátek ve 20:00.Hraje kapela Q-STYL -&nbsp\;skupina 3 hudebníků\, která je výjimečná tím\, že její repertoár obsahuje přes 840 písní v 6-ti světových jazycích. V jejich podání můžete slyšet písně české i zahraniční pop music\, dále neslavnější rockové hity\, výhodou je i široký repertoár dechovek a lidových písní.Zvěřinová i věcná tombola.Ukázka mysliveckého troubení na lesní rohy.Prodej zvěřinového guláše\, občerstvení\, vína.K zakoupení vstupenky využijte zvýhodněnou cenu v předprodeji 200 Kč\, na místě je pak cena 250 Kč. Neváhejte\, počet míst v předprodeji je omezen.
LOCATION:Komořany
END:VEVENT
END:VCALENDAR