BEGIN:VCALENDAR
VERSION:2.0
CALSCALE:GREGORIAN
PRODID:-//MyApp//Calendar 1.0//EN
BEGIN:VEVENT
METHOD:PUBLISH
UID:61350@regionalniportaly.cz
DTSTAMP:20260422T172457Z
DTSTART;VALUE=DATE:20260124
DTEND;VALUE=DATE:20260125
SUMMARY:Městský společenský ples
DESCRIPTION:Hrají:na hlavním sále – Black Velvet Bandve vestibulu – cimbálovka Hanácký hrozenObčerstveni a tombola zajištěny.
LOCATION:Ivanovice na Hané
END:VEVENT
END:VCALENDAR