BEGIN:VCALENDAR
VERSION:2.0
CALSCALE:GREGORIAN
PRODID:-//MyApp//Calendar 1.0//EN
BEGIN:VEVENT
METHOD:PUBLISH
UID:60738@regionalniportaly.cz
DTSTAMP:20260422T184109Z
DTSTART;VALUE=DATE:20251213
DTEND;VALUE=DATE:20251214
SUMMARY:Amor Vyškov : Helas Brno
DESCRIPTION:Jihomoravské derby v nejvyšší futsalové lize. Velezkušený Helas a nováček z Vyškova. Derby nemá favorita. Domácí se pokusí Helasu vrátit porážku z první části hry a věří v podporu publika.
LOCATION:Vyškov
END:VEVENT
END:VCALENDAR