BEGIN:VCALENDAR
VERSION:2.0
CALSCALE:GREGORIAN
PRODID:-//MyApp//Calendar 1.0//EN
BEGIN:VEVENT
METHOD:PUBLISH
UID:60518@regionalniportaly.cz
DTSTAMP:20260422T231227Z
DTSTART;VALUE=DATE:20260228
DTEND;VALUE=DATE:20260301
SUMMARY:Rockový ples
DESCRIPTION:​Zveme Vás na jedinečný Rockový ples\, ples v netradičním kabátě\, kde se elegance potká s energií rockové hudby. Přijďte si užít večer plný živé hudby a taneční zábavy.&nbsp\;K tanci a poslechu budou hrát kapely:RENÉ LACKO &amp\; DOWN TOWN - muzika přelomu 60. a 70. let - The Rolling Stones\, Led Zeppelin\, Deep Purple\, AC/DC a podobně. Zaznějí i písně od Jimiho Hendrixe.STÍNY - klasické rockové hity napříč dekádamiNebude chybět ani tradiční plesová tombola\, tak vezměte své přátele\, oblečte se stylově a přijďte si užít večer\, který bude mít říz.Těšíme se na Vás
LOCATION:Drnovice
END:VEVENT
END:VCALENDAR