BEGIN:VCALENDAR
VERSION:2.0
CALSCALE:GREGORIAN
PRODID:-//MyApp//Calendar 1.0//EN
BEGIN:VEVENT
METHOD:PUBLISH
UID:60297@regionalniportaly.cz
DTSTAMP:20260422T195539Z
DTSTART;VALUE=DATE:20251123
DTEND;VALUE=DATE:20251124
SUMMARY:Amor Vyškov : 1.FC Nejzbach Vysoké Mýto
DESCRIPTION:V 10.kole 1 Futsal ligy se střetne domácí Amor Vyškov s Nejzbachem Vysoké Mýto. Jedná se o důležitý zápas z hlediska udržení v nejvyšší soutěži. Vítěz tohoto zápasu bude mít nakročeno k&nbsp\;setrvání mezi futsalovou elitou.&nbsp\;
LOCATION:Vyškov
END:VEVENT
END:VCALENDAR