BEGIN:VCALENDAR
VERSION:2.0
CALSCALE:GREGORIAN
PRODID:-//MyApp//Calendar 1.0//EN
BEGIN:VEVENT
METHOD:PUBLISH
UID:60232@regionalniportaly.cz
DTSTAMP:20260422T212309Z
DTSTART;VALUE=DATE:20260117
DTEND;VALUE=DATE:20260118
SUMMARY:Šibřinky
DESCRIPTION:Karnevala pro dospělé na téma: Slunce\, seno\, Ivanovice.&nbsp\;&nbsp\;
LOCATION:Ivanovice na Hané
END:VEVENT
END:VCALENDAR