BEGIN:VCALENDAR
VERSION:2.0
CALSCALE:GREGORIAN
PRODID:-//MyApp//Calendar 1.0//EN
BEGIN:VEVENT
METHOD:PUBLISH
UID:60091@regionalniportaly.cz
DTSTAMP:20260422T184234Z
DTSTART;VALUE=DATE:20251115
DTEND;VALUE=DATE:20251116
SUMMARY:Amor Vyškov : FK Chrudim
DESCRIPTION:Do Vyškova v rámci nejvyšší futsalové soutěže přijede úřadující mistr ligy FK Chrudim. Tento futsalový gigant má na svém kontě celkem 16 titulů. V jeho řadách je základ futsalové reprezentace ČR. Nejlepší futsalový celek můžete vidět v sobotu večer ve Vyškově.
LOCATION:Vyškov
END:VEVENT
END:VCALENDAR