BEGIN:VCALENDAR
VERSION:2.0
CALSCALE:GREGORIAN
PRODID:-//MyApp//Calendar 1.0//EN
BEGIN:VEVENT
METHOD:PUBLISH
UID:59898@regionalniportaly.cz
DTSTAMP:20260422T225743Z
DTSTART;VALUE=DATE:20251130
DTEND;VALUE=DATE:20251201
SUMMARY:Divadelní pohádka – O Smolíčkovi v podání divadla KK Praha
DESCRIPTION:Divadelní pohádka – O Smolíčkovi v podání divadla KK Praha
LOCATION:Ivanovice na Hané
END:VEVENT
END:VCALENDAR