BEGIN:VCALENDAR
VERSION:2.0
CALSCALE:GREGORIAN
PRODID:-//MyApp//Calendar 1.0//EN
BEGIN:VEVENT
METHOD:PUBLISH
UID:59786@regionalniportaly.cz
DTSTAMP:20260422T195905Z
DTSTART;VALUE=DATE:20260206
DTEND;VALUE=DATE:20260207
SUMMARY:1. Benefiční ples
DESCRIPTION:SK Amor Vyškov\, futsal pořádá 1. Benefiční ples na pomoc&nbsp\;Adélky\, holčičky\, které po narození zjistili strašnou diagnózu: „MENINGITIDU“ a později&nbsp\;postinfekční hydrocefalus. Tato holčička od narození nemá na růžích ustláno\, ale se svým osudem bojuje statečně\, nechce se podat osudu.&nbsp\;Finanční prostředky potřebuje na rehabilitace\, rehabilitační pomůcky a další věci potřebné pro život.&nbsp\;&nbsp\;K tomu jí pomáhá&nbsp\;svými charitativními akcemi i SK Amor Vyškov. Jednou z těchto akcí je právě i tento 1. Benefiční ples. Na podporu Adélky&nbsp\;bude věnován celý výtěžek z tomboly\, ve které budou&nbsp\;hodnotné ceny přesahující 100 000\,-Kč.&nbsp\;
LOCATION:Drnovice
END:VEVENT
END:VCALENDAR