BEGIN:VCALENDAR
VERSION:2.0
CALSCALE:GREGORIAN
PRODID:-//MyApp//Calendar 1.0//EN
BEGIN:VEVENT
METHOD:PUBLISH
UID:59611@regionalniportaly.cz
DTSTAMP:20260422T182217Z
DTSTART;VALUE=DATE:20251031
DTEND;VALUE=DATE:20251101
SUMMARY:SK Amor Vyškov : FTZS Liberec
DESCRIPTION:V 7 kole 1 Futsal ligy zavítá do Vyškova vedoucí celek FTZS Liberec v čele s nejlepším střelcem ligy Brazilcem Caio\, kteý v dosavadním průběhu nastřílel 14 branek. Domácí Amor v posleddních dvou zápasech stoprocentně bodoval a bude chtít překvapit i v zápase s Libercem. V každém případě to bude souboj dvou celků\, kterým se v posledních kolech daří.
LOCATION:Vyškov
END:VEVENT
END:VCALENDAR