BEGIN:VCALENDAR
VERSION:2.0
CALSCALE:GREGORIAN
PRODID:-//MyApp//Calendar 1.0//EN
BEGIN:VEVENT
METHOD:PUBLISH
UID:59075@regionalniportaly.cz
DTSTAMP:20260422T195459Z
DTSTART;VALUE=DATE:20251031
DTEND;VALUE=DATE:20251102
SUMMARY:Día De Los Muertos 2025
DESCRIPTION:V roce 2019 jsme na Panelce uspořádali první Mexikem inspirovaný svátek mrtvých&nbsp\;Día De Los Muertos. Letos\, na přelomu října a listopadu\, se potkáme už posedmé!Páteční a nedělní&nbsp\;účast a je zdarma\, na sobotu je nutné zakoupit vstupenku\, kdy bude probíhat hlavní program festivalu.&nbsp\;Día De Los Muertos je mexický svátek\, který oslavuje životy našich blízkých zemřelých v tom nejlepším slova smyslu!&nbsp\;Mexické tradice\, catriny\, latinsko-americká živá hudba mariachi\, tequila i úžasná mexická kuchyně.Společně vytvoříme magickou atmošku a uděláme si to příjemné.&nbsp\;A že to je v těchto podzimních časech více než vítané.&nbsp\;Akce je vhodná pro bezdětné\, pro rodiče s dětmi i pro rodiče\, které nechají své děti doma.Těšíme se na vás!&nbsp\;
LOCATION:Luleč
END:VEVENT
END:VCALENDAR