BEGIN:VCALENDAR
VERSION:2.0
CALSCALE:GREGORIAN
PRODID:-//MyApp//Calendar 1.0//EN
BEGIN:VEVENT
METHOD:PUBLISH
UID:58786@regionalniportaly.cz
DTSTAMP:20260422T172442Z
DTSTART;VALUE=DATE:20251104
DTEND;VALUE=DATE:20251105
SUMMARY:TALK SHOW – S vámi mě baví svět…
DESCRIPTION:TALK SHOW Pavla Nového: Můžete se těšit na známého českého herce a jeho hosty. Zazní spousta historek nejen z&nbsp\;natáčení jedné z&nbsp\;nejznámějších českých komedii „S tebou mě baví svět“\, ale i další historky a příběhy z hereckého i soukromého života. To vše pojato formou besedy doprovázené autorskými písničkami hudebního tria Sekáč &amp\; přátelé. Pořadem provází moderátorka a bývalá hlasatelka ČST paní Marie Tomsová.&nbsp\;Filmy a seriály: Velké sedlo\, Zdivočelá země\, Ulice\, Policie Modrava\, Ordinace v růžové zahradě\, S tebou mě baví svět\, Bába z&nbsp\;ledu a další.
LOCATION:Ivanovice na Hané
END:VEVENT
END:VCALENDAR