BEGIN:VCALENDAR
VERSION:2.0
CALSCALE:GREGORIAN
PRODID:-//MyApp//Calendar 1.0//EN
BEGIN:VEVENT
METHOD:PUBLISH
UID:58490@regionalniportaly.cz
DTSTAMP:20260422T141804Z
DTSTART;VALUE=DATE:20260520
DTEND;VALUE=DATE:20260521
SUMMARY:Kafe u Osmanyho | Drnovice
DESCRIPTION:Originální zábavný pořad&nbsp\;populárního módního návrháře kubánského původu Osmanyho Laffity.Mnohdy neuvěřitelné historky ze života Osmanyho Laffity\,&nbsp\;při kterých se divák baví od první chvíle. Život Osmanyho je totiž velmi pestrý a co jiný nezažijí za celý život\, on už dávno zvládnul.Moderuje: Eva DecasteloÚčinkují: Osmany Laffita
LOCATION:Drnovice
END:VEVENT
END:VCALENDAR