BEGIN:VCALENDAR
VERSION:2.0
CALSCALE:GREGORIAN
PRODID:-//MyApp//Calendar 1.0//EN
BEGIN:VEVENT
METHOD:PUBLISH
UID:58310@regionalniportaly.cz
DTSTAMP:20260422T212605Z
DTSTART;VALUE=DATE:20251003
DTEND;VALUE=DATE:20251004
SUMMARY:SK Amor Vyškov : Interobal Plzeň
DESCRIPTION:Do Vyškova v rámci 1 Futsal ligy zavítá trojnásobný mistr repukliky\, jeden z nejúspěšnějších týmů poslední doby. Tým je plný reptezentantů a letos bude opět&nbsp\; útočit na nejvyšší příčku\, kam se bude chtít vrátit po roční pauze. Špičkový futsalový tým ve Vyškově. To \, zdeještě nebylo! Kdo chce vidět špičkový futsal&nbsp\; nesmí v hale chybět.
LOCATION:Vyškov
END:VEVENT
END:VCALENDAR