BEGIN:VCALENDAR
VERSION:2.0
CALSCALE:GREGORIAN
PRODID:-//MyApp//Calendar 1.0//EN
BEGIN:VEVENT
METHOD:PUBLISH
UID:57885@regionalniportaly.cz
DTSTAMP:20260422T214327Z
DTSTART;VALUE=DATE:20251123
DTEND;VALUE=DATE:20251124
SUMMARY:Stezka odvahy / VYŠKOV
DESCRIPTION:Stezka odvahy míří do Vyškova!Potkáte ty nejstrašidelnější pohádkové a nadpřirozené bytosti\, které otestují vaši odvahu a dovednosti. Připravte se na temná zákoutí a lehké tematické úkoly pro děti!Těšíme se na všechny malé i velké odvážlivce!&nbsp\;Vhodné pro děti 3 - 10 let📅 Datum: 23.11. 2025⏰&nbsp\;Čas: Najdete na své zakoupené vstupence📍&nbsp\;Místo:&nbsp\;Smetanovy sady\, ulice Mlýnská (u zimního stadionu)🚩&nbsp\;Start:&nbsp\;https://mapy.com/s/dezocucecoKaždých 5 minut pouštíme na stezku skupinku přibližně 5 dětí s rodiči\, které budou mezi sebou soupeřit v odvaze a dovednostech.⚠️Zakoupením vstupenky berete na vědomí a souhlasíte\, že vstupujete na trasu výhradně na vlastní nebezpečí. Za svou bezpečnost a bezpečnost svých dětí zodpovídáte sami. ⚠️
LOCATION:Vyškov
END:VEVENT
END:VCALENDAR