BEGIN:VCALENDAR
VERSION:2.0
CALSCALE:GREGORIAN
PRODID:-//MyApp//Calendar 1.0//EN
BEGIN:VEVENT
METHOD:PUBLISH
UID:57858@regionalniportaly.cz
DTSTAMP:20260422T183619Z
DTSTART;VALUE=DATE:20251017
DTEND;VALUE=DATE:20251018
SUMMARY:Martin Moravec a Helena Sováková LIVE na Panelce
DESCRIPTION:Helena Sováková strávila v české armádě více než 20 let a dotáhla to až na hodnost plukovnice. Sloužila v Iráku i v Afgánistánu. Jako hlavní armádní psycholožka pomohla desítkám vojákům.Martin Moravec je spisovatel\, novinář a vedoucí Magazínu DNES. Napsal řadu knih o výjimečných osobnostech od neurochirurga po pilota. Nyní přišla řada na knihu o plukovnici Heleně Sovákové._______Helena spolu s Martinem dorazí 17. října na Panelku a společně představí novou knihu. Bude to přednáška\, happening\, autogramiáda i společná debata nad důležitými tématy. Určitě zazní zajímavosti ze zákulisí\, jak kniha vznikala.
LOCATION:Luleč
END:VEVENT
END:VCALENDAR