BEGIN:VCALENDAR
VERSION:2.0
CALSCALE:GREGORIAN
PRODID:-//MyApp//Calendar 1.0//EN
BEGIN:VEVENT
METHOD:PUBLISH
UID:57655@regionalniportaly.cz
DTSTAMP:20260422T182234Z
DTSTART;VALUE=DATE:20250912
DTEND;VALUE=DATE:20250913
SUMMARY:Velký vlastenecký výlet
DESCRIPTION:POZOR! Po promítání bude pokračovat beseda s režisérem filmu Robinem Kvapilem.&nbsp\;Anotace:Na počátku byla zveřejněna výzva:&nbsp\;Myslíte si\, že válka na Ukrajině je podvod? Že média lžou o počtech mrtvých a dopadech „speciální vojenské operace na Ukrajině“? Přijďte na konkurz a staňte se hrdiny nového filmu.&nbsp\;Do centra válečného konfliktu nakonec vyrazil filmový štáb v říjnu 2024 se třemi „hrdiny“ – fanoušky Putina\, aby se přesvědčili\, jak vypadá válka na Ukrajině na vlastní oči. Chcete vidět reakce pochybovačů\, když jim nad hlavou lítají rakety\, schovávají se v krytech\, chodí mezi masovými hroby\, mluví s dětmi v podzemní škole v metru\, se zraněnými vojáky nebo trpícími pozůstalými?Pojeďte s námi na „velký vlastenecký výlet“. Dokumentární road movie s komediálními prvky o cestě ze zatím bezpečného Česka do válkou zmítaného Charkova&nbsp\;až&nbsp\;na&nbsp\;Donbas. Válka na Ukrajině bez cenzury.
LOCATION:Luleč
END:VEVENT
END:VCALENDAR