BEGIN:VCALENDAR
VERSION:2.0
CALSCALE:GREGORIAN
PRODID:-//MyApp//Calendar 1.0//EN
BEGIN:VEVENT
METHOD:PUBLISH
UID:57472@regionalniportaly.cz
DTSTAMP:20260422T182142Z
DTSTART;VALUE=DATE:20250912
DTEND;VALUE=DATE:20250913
SUMMARY:SK Amor Vyškov - Rapid Ústí nad Labem
DESCRIPTION:Utkání 1 futsal ligy\, nejvyšší domácí soutěže. Domácí celek se představí poprvé v historii na domácí půdě v této soutěži. V celku Rapidu Ústí nad Labem se pohybuje spoustu cizinců a to ze Španělska\, Kolumbie a Brazílie a řada kvalitních českých hráčů. Určitě se bude na co dívat.
LOCATION:Vyškov
END:VEVENT
END:VCALENDAR