BEGIN:VCALENDAR
VERSION:2.0
CALSCALE:GREGORIAN
PRODID:-//MyApp//Calendar 1.0//EN
BEGIN:VEVENT
METHOD:PUBLISH
UID:57410@regionalniportaly.cz
DTSTAMP:20260422T195556Z
DTSTART;VALUE=DATE:20250902
DTEND;VALUE=DATE:20250903
SUMMARY:Četa
DESCRIPTION:🎞️&nbsp\;LETNÍ KINO &amp\; KULTOVKY&nbsp\;na Panelce v Lulči běží od května do září. Každé úterý promítáme vysoce kvalitní biják! 🍿 Vybrali jsme zásadní filmy\, které jsou našemu srdci blízké.Četa (1986)Držitel čtyř Cen Akademie® včetně ocenění pro nejlepší film a režii – drásavě realistický válečný film (který podle bezprostředních zážitků natočil režisér Oliver Stone) poprvé vychází na Blu-ray u příležitosti 25. výročí svého vzniku. Speciální edice je nabitá výbušnými bonusy\, které vám přiblíží špičkové filmové řemeslo.ČSFD: 88%
LOCATION:Luleč
END:VEVENT
END:VCALENDAR