BEGIN:VCALENDAR
VERSION:2.0
CALSCALE:GREGORIAN
PRODID:-//MyApp//Calendar 1.0//EN
BEGIN:VEVENT
METHOD:PUBLISH
UID:57203@regionalniportaly.cz
DTSTAMP:20260422T195734Z
DTSTART;VALUE=DATE:20251007
DTEND;VALUE=DATE:20251008
SUMMARY:Všechno je dovoleno
DESCRIPTION:Divadelní komedie.Dva manželské páry\, které se vzájemně neznají\, čeká společná rodinná dovolená v Chorvatsku.Proč rodinná? Protože syn prvního páru se rozhodl vzít si dceru druhého páru\, a tak je načase\, aby se jejich rodiče vzájemně seznámili. Snoubenci se rozhodli pro neutrální půdu jednoho ze vzdálených chorvatských ostrovů\, kde jim na týden pronajali nádherný bungalov...Režie: Vlasta Hartlová.Obsazení: Ivo Šmoldas\, Michaela Kuklová\, Miluše Bittnerová\, Miroslav Šimůnek / Tomáš Krejčíř.
LOCATION:Ivanovice na Hané
END:VEVENT
END:VCALENDAR