BEGIN:VCALENDAR
VERSION:2.0
CALSCALE:GREGORIAN
PRODID:-//MyApp//Calendar 1.0//EN
BEGIN:VEVENT
METHOD:PUBLISH
UID:57115@regionalniportaly.cz
DTSTAMP:20260422T184203Z
DTSTART;VALUE=DATE:20251023
DTEND;VALUE=DATE:20251024
SUMMARY:Jak na zdravou krajinu na jižní Moravě?
DESCRIPTION:Jakým výzvám čelí v současnosti zemědělská krajina na jižní Moravě? Jak připravit krajinná opatření v obci a jak správně hospodařit na obecních pozemcích? Jak připravovat obec i krajinu na vlny veder a delší období sucha? Jaké dopady mohou mít komplexní pozemkové úpravy (KPÚ)? Na tyto otázky vám odpoví vzdělávací kurz Jak na zdravou krajinu.\nSoučástí programu bude i exkurze po okolí Němčan\, kde se v rámci komplexních pozemkových úprav povedlo skloubit protipovodňovou a protierozní ochranu\, podporu biodiverzity i rekreaci. Dozvíme se\, jaký byl průběh KPÚ\, jaké závazky z toho obci plynou\, jak navržená opatření fungují a mnoho dalšího.\nPořádá Nadace Partnerství – akreditovaná organizace MVČR č. AK/I-2/2023 spolu s MAS Slavkovské Bojiště.\nPro koho je kurz určen:Vzdělávací kurz je určen pro zástupce samospráv i pracovníky městských a obecních úřadů a jejich příspěvkových organizací. Zejména pak ty\, kteří mají v náplni práce péči o obecní majetek (budovy\, stavby\, veřejnou zeleň\, veřejná prostranství\, infrastrukturu či volné pozemky)\, včetně financování\, nebo se podílejí na podobě projektů. Vhodný je i pro pracovníky regionálních dotačních agentur\, místních akčních skupin a pro dotační specialisty. V neposlední řadě informačně obohatí i krajinné architekty a členy místních přírodovědných či ochranářských spolků.\nKurz lze zahrnout do průběžného vzdělávání úředníků. Pokud máte o osvědčení zájem\, napište nám to do poznámky v registračním formuláři.
LOCATION:Němčany
END:VEVENT
END:VCALENDAR