BEGIN:VCALENDAR
VERSION:2.0
CALSCALE:GREGORIAN
PRODID:-//MyApp//Calendar 1.0//EN
BEGIN:VEVENT
METHOD:PUBLISH
UID:56879@regionalniportaly.cz
DTSTAMP:20260422T171805Z
DTSTART;VALUE=DATE:20250927
DTEND;VALUE=DATE:20250928
SUMMARY:Májová Hard párty vol2
DESCRIPTION:Druhý ročník MHP je tady! Co nás čeká? Legendární hity Ozzyho Osbourna\, včetně pecek kultovních Black Sabbath. Křest desky showmanů Pochcitális\, Metal/rapový diktát v podání Mr.Dynaboom\, a smršť metalových hitů zahraje skvělá Caldera... Opět bude pestrá nabídka jídel\, chystáme akce na panáky a další vychytávky...Těšíme se na Vás!!
LOCATION:Dražovice
END:VEVENT
END:VCALENDAR