BEGIN:VCALENDAR
VERSION:2.0
CALSCALE:GREGORIAN
PRODID:-//MyApp//Calendar 1.0//EN
BEGIN:VEVENT
METHOD:PUBLISH
UID:56205@regionalniportaly.cz
DTSTAMP:20260422T232842Z
DTSTART;VALUE=DATE:20250812
DTEND;VALUE=DATE:20250813
SUMMARY:LETNÍ KINO & KULTOVKY na Panelce: Pulp Fiction
DESCRIPTION:🎞️&nbsp\;LETNÍ KINO &amp\; KULTOVKY&nbsp\;na Panelce v Lulči běží od května do září. Každé úterý promítáme vysoce kvalitní biják! 🍿 Vybrali jsme zásadní filmy\, které jsou našemu srdci blízké.Pulp Fiction (1994)Nejkultovnější z kultovních filmů 90. let je autorskou Biblí Quentina Tarantina\, který v tomto opusu definoval základní prvky své režisérské poetiky a vytvořil dílo rozněcující náročné kritiky na festivalu v Cannes\, levicové a pravicové intelektuály i zedníky dopřávající si po těžké šichtě trochu oddychu.ČSFD: 91%
LOCATION:Luleč
END:VEVENT
END:VCALENDAR