BEGIN:VCALENDAR
VERSION:2.0
CALSCALE:GREGORIAN
PRODID:-//MyApp//Calendar 1.0//EN
BEGIN:VEVENT
METHOD:PUBLISH
UID:56203@regionalniportaly.cz
DTSTAMP:20260422T172313Z
DTSTART;VALUE=DATE:20250819
DTEND;VALUE=DATE:20250820
SUMMARY:LETNÍ KINO & KULTOVKY na Panelce: Cesta do pravěku
DESCRIPTION:🎞️&nbsp\;LETNÍ KINO &amp\; KULTOVKY&nbsp\;na Panelce v Lulči běží od května do září. Každé úterý promítáme vysoce kvalitní biják! 🍿 Vybrali jsme zásadní filmy\, které jsou našemu srdci blízké.Cesta do pravěku (1955)Celovečerní kombinovaný fantasticko - dobrodružný film\, který ukazuje prehistorická stadia vzniku Země\, flory a fauny. Nález pravěké zkameněliny je pro čtyři zvídavé kluky výzvou k výpravě do dávné minulosti. Na malé pramičce postupně proplouvají dobou ledovou přes třetihory a druhohory až na samý počátek života na planetě Zemi\, přičemž zažijí nejrůznější\, mnohdy i nebezpečná dobrodružství.&nbsp\;ČSFD: 87%
LOCATION:Luleč
END:VEVENT
END:VCALENDAR