BEGIN:VCALENDAR
VERSION:2.0
CALSCALE:GREGORIAN
PRODID:-//MyApp//Calendar 1.0//EN
BEGIN:VEVENT
METHOD:PUBLISH
UID:55922@regionalniportaly.cz
DTSTAMP:20260423T035640Z
DTSTART;VALUE=DATE:20250715
DTEND;VALUE=DATE:20251005
SUMMARY:Sláma v tradiční kultuře
DESCRIPTION:Sláma byla po staletí nepostradatelnou součástí tradiční kultury. Výstava návštěvníky provede její historií a ukáže\, jak důležitou roli sehrávala v každodenním venkovském životě. Dozvíte se více o pěstování obilnin\, o tom\, jak se obilí sklízelo\, a jak se sláma zpracovávala v domácích podmínkách. Uvidíte\, jak rozmanité bylo její využití – od podestýlky pro dobytek\, přes stavební a izolační materiál\, až po výrobu nádob a drobného lidového umění.\nVýstava nabídne pestrý obraz tradičního zpracování slámy prostřednictvím sbírkových předmětů\, fotografií\, audioprvků a videodokumentů. Zvláštní pozornost je věnována současným nositelům tradice – řemeslníkům\, kteří se i dnes věnují ručnímu zpracování slámy a uchovávají dávné techniky při životě.\nNa své si přijdou i rodiny s dětmi. Výstava je doplněna o řadu interaktivních prvků: slámové pexeso\, výtvarný a tvořivý koutek\, magnetické tabule s naučnými úkoly\, audionahrávky\, pohádky i interaktivní počítačovou prezentaci.\nNaše výstava není jen exkurzí do minulosti\, ale především pozvánkou k objevování toho\, co všechno lze vytvořit z jediného\, zdánlivě obyčejného materiálu – pokud se spojí šikovné ruce\, tradice a představivost.\nVydejte se s námi na pole při žních\, vyzkoušejte si mlácení cepy na mlatu\, nahlédněte do kozího chlívku\, prohlédněte si doškovou střechu a obdivujte jemnost slámové krajky či preciznost slaměné intarzie. A pokud vás poznávání unaví\, dopřejte si chvilku odpočinku na slamníku!
LOCATION:Vyškov
END:VEVENT
END:VCALENDAR