BEGIN:VCALENDAR
VERSION:2.0
CALSCALE:GREGORIAN
PRODID:-//MyApp//Calendar 1.0//EN
BEGIN:VEVENT
METHOD:PUBLISH
UID:55196@regionalniportaly.cz
DTSTAMP:20260422T225154Z
DTSTART;VALUE=DATE:20250814
DTEND;VALUE=DATE:20250815
SUMMARY:Kecy a politika na Panelce
DESCRIPTION:Nekorektní podcast v nekorektním prostředí.&nbsp\;Panelka Luleč (bezdotační kulturní scéna)&nbsp\; s Bohumilem a Petrosem opět uvaří další díl tohto již legendárního podcastu.&nbsp\;Přijď si užít super gastro se zajímavou politickou talk show v nejlepším kiosku na světě.
LOCATION:Luleč
END:VEVENT
END:VCALENDAR