BEGIN:VCALENDAR
VERSION:2.0
CALSCALE:GREGORIAN
PRODID:-//MyApp//Calendar 1.0//EN
BEGIN:VEVENT
METHOD:PUBLISH
UID:55002@regionalniportaly.cz
DTSTAMP:20260422T214819Z
DTSTART;VALUE=DATE:20250701
DTEND;VALUE=DATE:20250702
SUMMARY:LETNÍ KINO & KULTOVKY na Panelce: Rozmarné léto
DESCRIPTION:🎞️&nbsp\;LETNÍ KINO &amp\; KULTOVKY&nbsp\;na Panelce v Lulči běží od května do září. Každé úterý promítáme vysoce kvalitní biják! 🍿 Vybrali jsme zásadní filmy\, které jsou našemu srdci blízké.Rozmarné léto (1967)Ve zpustlých říčních lázních tráví tři staří přátelé poklidné dny rozmluvami a vínem. Klid naruší příjezd kouzelníka Arnoštka a jeho krásné schovanky Anny\, do které se všichni zamilují. Léto je deštivé – a plné malých dramat\, touhy i humorné melancholie.ČSFD: 78%Změna programu vyhrazena.
LOCATION:Luleč
END:VEVENT
END:VCALENDAR