BEGIN:VCALENDAR
VERSION:2.0
CALSCALE:GREGORIAN
PRODID:-//MyApp//Calendar 1.0//EN
BEGIN:VEVENT
METHOD:PUBLISH
UID:55001@regionalniportaly.cz
DTSTAMP:20260422T170635Z
DTSTART;VALUE=DATE:20250729
DTEND;VALUE=DATE:20250730
SUMMARY:LETNÍ KINO & KULTOVKY na Panelce: Osvícení
DESCRIPTION:🎞️&nbsp\;LETNÍ KINO &amp\; KULTOVKY&nbsp\;na Panelce v Lulči běží od května do září. Každé úterý promítáme vysoce kvalitní biják! 🍿 Vybrali jsme zásadní filmy\, které jsou našemu srdci blízké.Osvícení (Shining)Tuhle Kubrickovu klasiku r(ozsvítíme) na Panelce už tohle úterý! Bohužel jsme museli změnit program (Mlčení jehňátek neprošlo kvůli problémům s distribucí) \, ale doufáme\, že jsme našli důstojnou náhradu.Anotace:Spisovatel Jack Torrance hledá klidné místo pro psaní svého nového románu\, a tak přijímá nabídku dělat správce odlehlého horského hotelu. Při úvodním pohovoru se dozvídá mimo jiné hrůznou historku o svém předchůdci\, který zešílel ze samoty a odloučení a zavraždil svou ženu a dvě dcery... po příjezdu Jack ubytuje svou rodinu a začíná psát knihu. Brzy však zjišťuje\, že samota uprostřed hor je tísnivá a také on začíná přicházet o rozum. (oficiální text distributora)ČSFD: 88%Změna programu vyhrazena.
LOCATION:Luleč
END:VEVENT
END:VCALENDAR