BEGIN:VCALENDAR
VERSION:2.0
CALSCALE:GREGORIAN
PRODID:-//MyApp//Calendar 1.0//EN
BEGIN:VEVENT
METHOD:PUBLISH
UID:55000@regionalniportaly.cz
DTSTAMP:20260422T170615Z
DTSTART;VALUE=DATE:20250805
DTEND;VALUE=DATE:20250806
SUMMARY:LETNÍ KINO & KULTOVKY na Panelce: Jan Werich
DESCRIPTION:🎞️&nbsp\;LETNÍ KINO &amp\; KULTOVKY&nbsp\;na Panelce v Lulči běží od května do září. Každé úterý promítáme vysoce kvalitní biják! 🍿 Vybrali jsme zásadní filmy\, které jsou našemu srdci blízké.Jan Werich: Když už člověk jednou je… (2021)Po čtyřech desetiletích od smrti jedné z největších legend českého divadla Jana Wericha vznikl jeho první velký filmový dokumentární portrét. Dokument s názvem Jan Werich: Když už člověk jednou je přináší strhující životní příběh této herecké legendy.ČSFD: 89%Změna programu vyhrazena.
LOCATION:Luleč
END:VEVENT
END:VCALENDAR