BEGIN:VCALENDAR
VERSION:2.0
CALSCALE:GREGORIAN
PRODID:-//MyApp//Calendar 1.0//EN
BEGIN:VEVENT
METHOD:PUBLISH
UID:54999@regionalniportaly.cz
DTSTAMP:20260422T212846Z
DTSTART;VALUE=DATE:20250722
DTEND;VALUE=DATE:20250723
SUMMARY:LETNÍ KINO & KULTOVKY na Panelce: Big Lebowski
DESCRIPTION:🎞️&nbsp\;LETNÍ KINO &amp\; KULTOVKY&nbsp\;na Panelce v Lulči běží od května do září. Každé úterý promítáme vysoce kvalitní biják! 🍿 Vybrali jsme zásadní filmy\, které jsou našemu srdci blízké.Big Lebowski (1998)Jeff "Dude" Lebowski je nejlenivější chlápek z Los Angeles a okolí. Miluje bowling\, koktejl zvaný Bílý medvěd\, marihuanu a svůj koberec. Díky shodě jmen je ale považován za boháče\, který se shodou neskutečných náhod stane obětí vydírání. Místo toho\, aby mu skutečný boháč Lebowski zaplatil zašpiněný koberec\, musí Jeff se svými neschopnými kumpány předat výkupné za jeho rozmazlenou dceru.ČSFD: 83%Změna programu vyhrazena.
LOCATION:Luleč
END:VEVENT
END:VCALENDAR