BEGIN:VCALENDAR
VERSION:2.0
CALSCALE:GREGORIAN
PRODID:-//MyApp//Calendar 1.0//EN
BEGIN:VEVENT
METHOD:PUBLISH
UID:54998@regionalniportaly.cz
DTSTAMP:20260422T232913Z
DTSTART;VALUE=DATE:20250715
DTEND;VALUE=DATE:20250716
SUMMARY:LETNÍ KINO & KULTOVKY na Panelce: Amerikánka
DESCRIPTION:🎞️&nbsp\;LETNÍ KINO &amp\; KULTOVKY&nbsp\;na Panelce v Lulči běží od května do září. Každé úterý promítáme vysoce kvalitní biják! 🍿 Vybrali jsme zásadní filmy\, které jsou našemu srdci blízké.Amerikánka (2024)Vracíš se na místa. Na místa\, kde jsi vyrůstala. Třeseš se. Potíš se. Polykáš. Nemůžeš se vyhnout vzpomínkám. Některý jsou jako pestrý obrazy. Některý jak rány pěstí. Děcák za komunistů. Pěstouni. Pasťák. A pak samet. A svoboda\, se kterou nevíš\, jak naložit. Stokrát jsi padla. Ale stokrát zase vstala...ČSFD: 59%Změna programu vyhrazena.
LOCATION:Luleč
END:VEVENT
END:VCALENDAR