BEGIN:VCALENDAR
VERSION:2.0
CALSCALE:GREGORIAN
PRODID:-//MyApp//Calendar 1.0//EN
BEGIN:VEVENT
METHOD:PUBLISH
UID:54997@regionalniportaly.cz
DTSTAMP:20260422T232505Z
DTSTART;VALUE=DATE:20250624
DTEND;VALUE=DATE:20250625
SUMMARY:LETNÍ KINO & KULTOVKY na Panelce: Absolvent
DESCRIPTION:🎞️&nbsp\;LETNÍ KINO &amp\; KULTOVKY&nbsp\;na Panelce v Lulči běží od května do září. Každé úterý promítáme vysoce kvalitní biják! 🍿 Vybrali jsme zásadní filmy\, které jsou našemu srdci blízké.Absolvent (1967)Dustin Hoffman jako mladík\, který se bouří proti přetvářce a maloměšťáctví.Benjamin Braddock se vrací domů z vysokoškolských studií a rodiče uspořádají na jeho počest slavnostní párty. Jak se zdá\, čeká na něj jasně nalinkovaná kariéra a skvělá budoucnost\, o nichž všichni kolem stále mluví.ČSFD: 85%Změna programu vyhrazena.
LOCATION:Luleč
END:VEVENT
END:VCALENDAR