BEGIN:VCALENDAR
VERSION:2.0
CALSCALE:GREGORIAN
PRODID:-//MyApp//Calendar 1.0//EN
BEGIN:VEVENT
METHOD:PUBLISH
UID:54959@regionalniportaly.cz
DTSTAMP:20260422T214135Z
DTSTART;VALUE=DATE:20250617
DTEND;VALUE=DATE:20250618
SUMMARY:LETNÍ KINO & KULTOVKY na Panelce: Leon
DESCRIPTION:🎞️&nbsp\;LETNÍ KINO &amp\; KULTOVKY&nbsp\;na Panelce v Lulči běží od května do září. Každé úterý promítáme vysoce kvalitní biják! 🍿 Vybrali jsme zásadní filmy\, které jsou našemu srdci blízké.Leon (1994)Neobyčejný milostný příběh profesionálního vraha a mladé dívky. Leon je nájemný vrah\, člověk\, kterého nedokáže nic zastavit před splněním úlohy. Do jeho života vstoupí 12-letá Mathilda. Rodina nevinné Mathildy byla vyvražděná zkorumpovaným policajtem a ona se rozhodla pro krutou pomstu.ČSFD: 89%
LOCATION:Luleč
END:VEVENT
END:VCALENDAR