BEGIN:VCALENDAR
VERSION:2.0
CALSCALE:GREGORIAN
PRODID:-//MyApp//Calendar 1.0//EN
BEGIN:VEVENT
METHOD:PUBLISH
UID:54924@regionalniportaly.cz
DTSTAMP:20260422T212555Z
DTSTART;VALUE=DATE:20250911
DTEND;VALUE=DATE:20250912
SUMMARY:Přepište dějiny na Panelce 2025
DESCRIPTION:Přepište dějiny terorismu...&nbsp\;Historický podcast Martina Gromana a Michala Stehlíka Přepište dějiny sev Lulči symbolicky 11. září zaměří na téma terorismu v dějinách\, nebudouchybět emblematické případy 20. století\, ale ani otázka\, jak to vlastněmají s terorismem české dějiny.
LOCATION:Luleč
END:VEVENT
END:VCALENDAR