BEGIN:VCALENDAR
VERSION:2.0
CALSCALE:GREGORIAN
PRODID:-//MyApp//Calendar 1.0//EN
BEGIN:VEVENT
METHOD:PUBLISH
UID:54923@regionalniportaly.cz
DTSTAMP:20260422T195636Z
DTSTART;VALUE=DATE:20250821
DTEND;VALUE=DATE:20250822
SUMMARY:Na Stojáka na Panelce #3
DESCRIPTION:Letos jsme se se stand-upem trošku rozjeli. Koncept Na Stojáka se totiž na Panelku skvěle hodí. Dobrý pivo\, boží jídlo a přehršle volnýho humoru. Proč ne?Na Stojáci na Panelce budou tentokrát tři. Červnovej\, červencovej a srpnovej. Vždy s jiným\, však s parádním obsazením. :)&nbsp\;Tak si vyber termín nebo kupuj rovnou všechny tři!&nbsp\;19. června: Na Stojáka #1 -&nbsp\;Lukáš Pavlásek\,&nbsp\;Tomáš Měcháček&nbsp\;a&nbsp\;Zbyněk Vičar24. července: Na Stojáka #2 -&nbsp\;Ester Kočičková\,&nbsp\;Arnošt Frauenberg\,&nbsp\;Nasty21. srpna:&nbsp\;Na Stojáka #3 -&nbsp\;Adéla Elbel\,&nbsp\;Tigran Hovakimyan\,&nbsp\;Daniel Čech&nbsp\;Těšíme se na Vás\,Šárka und Ondřej!
LOCATION:Luleč
END:VEVENT
END:VCALENDAR