BEGIN:VCALENDAR
VERSION:2.0
CALSCALE:GREGORIAN
PRODID:-//MyApp//Calendar 1.0//EN
BEGIN:VEVENT
METHOD:PUBLISH
UID:54881@regionalniportaly.cz
DTSTAMP:20260422T195616Z
DTSTART;VALUE=DATE:20250610
DTEND;VALUE=DATE:20250611
SUMMARY:LETNÍ KINO & KULTOVKY na Panelce: Matrix
DESCRIPTION:🎞️&nbsp\;LETNÍ KINO &amp\; KULTOVKY&nbsp\;na Panelce v Lulči běží od května do září. Každé úterý promítáme vysoce kvalitní biják! 🍿 Vybrali jsme zásadní filmy\, které jsou našemu srdci blízké.Matrix (1999)Thomas Anderson zjišťuje\, že realita je iluze a jeho život jen datová simulace. V Matrixu se ocitá mezi noční můrou a pravdou\, která mění vše\, co dosud znal. Začíná pochybovat o skutečnosti a bojí se\, co se stane\, až tvůrci systému zjistí\, že odhalil pravdu.ČSFD: 90%V původním znění s českými titulky.
LOCATION:Luleč
END:VEVENT
END:VCALENDAR