BEGIN:VCALENDAR
VERSION:2.0
CALSCALE:GREGORIAN
PRODID:-//MyApp//Calendar 1.0//EN
BEGIN:VEVENT
METHOD:PUBLISH
UID:54880@regionalniportaly.cz
DTSTAMP:20260423T003839Z
DTSTART;VALUE=DATE:20250603
DTEND;VALUE=DATE:20250604
SUMMARY:LETNÍ KINO & KULTOVKY na Panelce: Samotáři
DESCRIPTION:🎞️ LETNÍ KINO &amp\; KULTOVKY na Panelce v Lulči běží od května do září. Každé úterý promítáme vysoce kvalitní biják! 🍿 Vybrali jsme zásadní filmy\, které jsou našemu srdci blízké.Samotáři (2000)Sedm mladých lidí prožívá osudové zvraty během několika dní. Vztahy\, rozchody\, posedlost i hledání identity se prolínají s příběhem makedonské barmanky\, japonských turistů a maloměšťáckých rodičů v tragikomickém příběhu o samotě uprostřed pohodlného života.ČSFD: 84%
LOCATION:Luleč
END:VEVENT
END:VCALENDAR