BEGIN:VCALENDAR
VERSION:2.0
CALSCALE:GREGORIAN
PRODID:-//MyApp//Calendar 1.0//EN
BEGIN:VEVENT
METHOD:PUBLISH
UID:54772@regionalniportaly.cz
DTSTAMP:20260422T184143Z
DTSTART;VALUE=DATE:20250919
DTEND;VALUE=DATE:20250920
SUMMARY:Midi Lidi & Dukla na Panelce
DESCRIPTION:Večírek pro starý (au) i mladý! Legendární electro kapelu Midi Lidi\, kterou jistě znáte díky hitům Rád vařím nebo Ráno\, doprovodí podstatně mladší pražská kapela Dukla. V roce 2024 vydali nové album Stejný lepší.Na tuto událost se obzvláště těšíme\, čucháme totiž dva extra luxusní koncerty. A bude DJ\, Bude after?
LOCATION:Luleč
END:VEVENT
END:VCALENDAR