BEGIN:VCALENDAR
VERSION:2.0
CALSCALE:GREGORIAN
PRODID:-//MyApp//Calendar 1.0//EN
BEGIN:VEVENT
METHOD:PUBLISH
UID:54510@regionalniportaly.cz
DTSTAMP:20260422T212345Z
DTSTART;VALUE=DATE:20250719
DTEND;VALUE=DATE:20250720
SUMMARY:Bert & Friends na Panelce
DESCRIPTION:Po dvou letech se naše nejoblíbenější kapela na světě vrací na Panelku. Letí na červeném Ferrari a přinášejí&nbsp\;nové album České moře. A to je vskutku tematicky příhodné\, že ano lome.V roli předskokana se představí nepříliš známá\, avšak epicky dobrá dvojčlenná kapela nadváha.Nepovinný dresscode: jako u moře
LOCATION:Luleč
END:VEVENT
END:VCALENDAR